BEGIN:VCALENDAR
VERSION:2.0
PRODID:-//Verity Medicine - ECPv6.15.20//NONSGML v1.0//EN
CALSCALE:GREGORIAN
METHOD:PUBLISH
X-ORIGINAL-URL:https://veritymedicine.com
X-WR-CALDESC:Events for Verity Medicine
REFRESH-INTERVAL;VALUE=DURATION:PT1H
X-Robots-Tag:noindex
X-PUBLISHED-TTL:PT1H
BEGIN:VTIMEZONE
TZID:America/New_York
BEGIN:DAYLIGHT
TZOFFSETFROM:-0500
TZOFFSETTO:-0400
TZNAME:EDT
DTSTART:20240310T070000
END:DAYLIGHT
BEGIN:STANDARD
TZOFFSETFROM:-0400
TZOFFSETTO:-0500
TZNAME:EST
DTSTART:20241103T060000
END:STANDARD
BEGIN:DAYLIGHT
TZOFFSETFROM:-0500
TZOFFSETTO:-0400
TZNAME:EDT
DTSTART:20250309T070000
END:DAYLIGHT
BEGIN:STANDARD
TZOFFSETFROM:-0400
TZOFFSETTO:-0500
TZNAME:EST
DTSTART:20251102T060000
END:STANDARD
BEGIN:DAYLIGHT
TZOFFSETFROM:-0500
TZOFFSETTO:-0400
TZNAME:EDT
DTSTART:20260308T070000
END:DAYLIGHT
BEGIN:STANDARD
TZOFFSETFROM:-0400
TZOFFSETTO:-0500
TZNAME:EST
DTSTART:20261101T060000
END:STANDARD
END:VTIMEZONE
BEGIN:VEVENT
DTSTART;TZID=America/New_York:20251106T173000
DTEND;TZID=America/New_York:20251106T183000
DTSTAMP:20260425T110831
CREATED:20220503T145043Z
LAST-MODIFIED:20250925T125945Z
UID:1712-1762450200-1762453800@veritymedicine.com
SUMMARY:Demystifying the Bladder
DESCRIPTION:Demystifying the Bladder\nPresentation by Michelle Logan Doctor of Physical Therapy \nMichelle is a Doctor of Physical Therapy with The Movement Doctors in Easley\, SC \nNovember 6th from 5:30-6:30 \nFree class \nTopics of Discussion \n\nBladder Function and its relation to the pelvic floor\nBladder Dysfunction: its symptoms and causes\n4 types of Urinary Incontinence and how to improve them\n\n  \n  \n  \n\n \n\n  \n  \nSign Up Here!
URL:https://veritymedicine.com/event/bladder/
LOCATION:Verity Primary Medicine & Lifestyle\, 118 S Pendleton Street\, Easley\, SC\, 29640\, United States
ATTACH;FMTTYPE=image/jpeg:https://veritymedicine.com/wp-content/uploads/2022/05/bladderstone.jpg
ORGANIZER;CN="Verity Primary Medicine & Lifestyle":MAILTO:Contact@veritymedicine.com
END:VEVENT
END:VCALENDAR