BEGIN:VCALENDAR
VERSION:2.0
PRODID:-//Verity Medicine - ECPv6.15.20//NONSGML v1.0//EN
CALSCALE:GREGORIAN
METHOD:PUBLISH
X-ORIGINAL-URL:https://veritymedicine.com
X-WR-CALDESC:Events for Verity Medicine
REFRESH-INTERVAL;VALUE=DURATION:PT1H
X-Robots-Tag:noindex
X-PUBLISHED-TTL:PT1H
BEGIN:VTIMEZONE
TZID:America/New_York
BEGIN:DAYLIGHT
TZOFFSETFROM:-0500
TZOFFSETTO:-0400
TZNAME:EDT
DTSTART:20240310T070000
END:DAYLIGHT
BEGIN:STANDARD
TZOFFSETFROM:-0400
TZOFFSETTO:-0500
TZNAME:EST
DTSTART:20241103T060000
END:STANDARD
BEGIN:DAYLIGHT
TZOFFSETFROM:-0500
TZOFFSETTO:-0400
TZNAME:EDT
DTSTART:20250309T070000
END:DAYLIGHT
BEGIN:STANDARD
TZOFFSETFROM:-0400
TZOFFSETTO:-0500
TZNAME:EST
DTSTART:20251102T060000
END:STANDARD
BEGIN:DAYLIGHT
TZOFFSETFROM:-0500
TZOFFSETTO:-0400
TZNAME:EDT
DTSTART:20260308T070000
END:DAYLIGHT
BEGIN:STANDARD
TZOFFSETFROM:-0400
TZOFFSETTO:-0500
TZNAME:EST
DTSTART:20261101T060000
END:STANDARD
END:VTIMEZONE
BEGIN:VEVENT
DTSTART;TZID=America/New_York:20250101T090000
DTEND;TZID=America/New_York:20250501T100000
DTSTAMP:20260425T222417
CREATED:20240108T134453Z
LAST-MODIFIED:20250520T180156Z
UID:1978-1735722000-1746093600@veritymedicine.com
SUMMARY:Walk with a Doc
DESCRIPTION:  \n\n  \n\n  \nWe are walking for health and fun. Third Saturdays at 9am. Meet in Old Market Square Amphitheater. Everyone is welcome!Special dates\, if any\, below.\n \n\n\n\n\n  \n \n\n\n  \n\n  \n\n  \n  \n \n\n\n\n\n  \n \n  \nWalk with a Doc is a walking program for everyone interested in taking steps for a healthier lifestyle. What better way to start your weekend than on your feet making strides to help your heart and improving your general health to live longer! While you walk at your own pace\, you’ll have the opportunity to have questions answered by local physicians. All paces\, strides and ages are welcome. Walkers\, runners and even rollers (yes\, wheelchairs and strollers) can enjoy this. Join us to experience the beauty of Upstate South Carolina\, downtown Easley and our active community!Each week is a different topic or theme. Meet us in the amphitheater at Old Market Square\, downtown Easley\, SC. \n \n  \n \n 
URL:https://veritymedicine.com/event/walk-with-a-doc-2/
LOCATION:Old Market Square\, 115 Old Market Square\, Easley\, SC\, 29640\, United States
ATTACH;FMTTYPE=image/jpeg:https://veritymedicine.com/wp-content/uploads/2021/11/245076070_1456220268087090_5826935181503137231_n.jpg
END:VEVENT
END:VCALENDAR