BEGIN:VCALENDAR
VERSION:2.0
PRODID:-//Verity Medicine - ECPv6.15.20//NONSGML v1.0//EN
CALSCALE:GREGORIAN
METHOD:PUBLISH
X-ORIGINAL-URL:https://veritymedicine.com
X-WR-CALDESC:Events for Verity Medicine
REFRESH-INTERVAL;VALUE=DURATION:PT1H
X-Robots-Tag:noindex
X-PUBLISHED-TTL:PT1H
BEGIN:VTIMEZONE
TZID:America/New_York
BEGIN:DAYLIGHT
TZOFFSETFROM:-0500
TZOFFSETTO:-0400
TZNAME:EDT
DTSTART:20230312T070000
END:DAYLIGHT
BEGIN:STANDARD
TZOFFSETFROM:-0400
TZOFFSETTO:-0500
TZNAME:EST
DTSTART:20231105T060000
END:STANDARD
BEGIN:DAYLIGHT
TZOFFSETFROM:-0500
TZOFFSETTO:-0400
TZNAME:EDT
DTSTART:20240310T070000
END:DAYLIGHT
BEGIN:STANDARD
TZOFFSETFROM:-0400
TZOFFSETTO:-0500
TZNAME:EST
DTSTART:20241103T060000
END:STANDARD
BEGIN:DAYLIGHT
TZOFFSETFROM:-0500
TZOFFSETTO:-0400
TZNAME:EDT
DTSTART:20250309T070000
END:DAYLIGHT
BEGIN:STANDARD
TZOFFSETFROM:-0400
TZOFFSETTO:-0500
TZNAME:EST
DTSTART:20251102T060000
END:STANDARD
BEGIN:DAYLIGHT
TZOFFSETFROM:-0500
TZOFFSETTO:-0400
TZNAME:EDT
DTSTART:20260308T070000
END:DAYLIGHT
BEGIN:STANDARD
TZOFFSETFROM:-0400
TZOFFSETTO:-0500
TZNAME:EST
DTSTART:20261101T060000
END:STANDARD
END:VTIMEZONE
BEGIN:VEVENT
DTSTART;TZID=America/New_York:20251009T173000
DTEND;TZID=America/New_York:20251009T183000
DTSTAMP:20260423T023147
CREATED:20240411T150429Z
LAST-MODIFIED:20250925T124643Z
UID:2185-1760031000-1760034600@veritymedicine.com
SUMMARY:Radiant Living Series
DESCRIPTION:VERITY Radiant Living Series\n \n  \n \nIn the Radiant Living Series\, we embark on a journey towards embracing a life filled with positivity\, growth\, and joy.  Through a combination of mindfulness practices\, self care techniques\, and personal development strategies\, we aim to cultivate a community and lifestyle that nourishes the mind\, body\, and soul.   \nEach workshop will have a different topic\, which will guide you on a path to unlocking your true potential\, fostering meaningful connections and discovering the beauty in every moment.  Get ready to illuminate your life from within and radiate positivity to the world around you. \nWelcome to the Radiant Living Series – where your brightest self awaits! \nWhen communities come together\, we get stronger!   \nFood & Mood\nOctober 9th from 5:30-6:30 pm \n$20.00 per person \nThe workshop will be led by Tiffany Davis founder of Feed Your Inner Chef \, LLCCertified Dietary ManagerNutrition Consultant \nAn Interactive Experience  \nDiscover how what you eat affects how you feel! \nThis engaging class blends guided tastings with personal reflection to explore the powerful connection between food and emotional well-being. \nTaste a variety of foods \nTrack your mood in a personal journal \nShare insights and spark meaningful conversation \nWhether at work\, home\, or on the go—learn how smarter food choices can boost your mood every day. \nSign Up Here!
URL:https://veritymedicine.com/event/radiant-living-series-4/
CATEGORIES:In House Class
ATTACH;FMTTYPE=image/jpeg:https://veritymedicine.com/wp-content/uploads/2024/04/Blueridge-RLS.jpg
END:VEVENT
BEGIN:VEVENT
DTSTART;TZID=America/New_York:20250710T173000
DTEND;TZID=America/New_York:20250710T183000
DTSTAMP:20260423T023147
CREATED:20240513T171004Z
LAST-MODIFIED:20250623T153411Z
UID:2212-1752168600-1752172200@veritymedicine.com
SUMMARY:Radiant Living Series
DESCRIPTION:VERITY Radiant Living Series\n \n  \n \nIn the Radiant Living Series\, we embark on a journey towards embracing a life filled with positivity\, growth\, and joy.  Through a combination of mindfulness practices\, self care techniques\, and personal development strategies\, we aim to cultivate a community and lifestyle that nourishes the mind\, body\, and soul.   \nEach workshop will have a different topic\, which will guide you on a path to unlocking your true potential\, fostering meaningful connections and discovering the beauty in every moment.  Get ready to illuminate your life from within and radiate positivity to the world around you. \nWelcome to the Radiant Living Series – where your brightest self awaits! \nWhen communities come together\, we get stronger!   \nPerimenopause: How acupuncture and Chinese medicine can help during this transition\nThis class will include;  \n\nVisual demonstration of techniques used in treatment\nChinese dietary therapy suggestions for the perimenopausal stage\nRachel will serve a healthy treat made from suggested foods\n\n$15.00 per person \nSign Up Here!
URL:https://veritymedicine.com/event/radiant-living-series-3/
CATEGORIES:In House Class
ATTACH;FMTTYPE=image/jpeg:https://veritymedicine.com/wp-content/uploads/2024/04/Blueridge-RLS.jpg
END:VEVENT
BEGIN:VEVENT
DTSTART;TZID=America/New_York:20240509T173000
DTEND;TZID=America/New_York:20240509T183000
DTSTAMP:20260423T023147
CREATED:20240408T182708Z
LAST-MODIFIED:20240411T151032Z
UID:1927-1715275800-1715279400@veritymedicine.com
SUMMARY:Radiant Living Series
DESCRIPTION:  \nVERITY Radiant Living Series\n  \nIn the Radiant Living Series\, we embark on a journey towards embracing a life filled with positivity\, growth\, and joy.  Through a combination of mindfulness practices\, self care techniques\, and personal development strategies\, we aim to cultivate a community and lifestyle that nourishes the mind\, body\, and soul.   \nEach workshop will have a different topic\, which will guide you on a path to unlocking your true potential\, fostering meaningful connections and discovering the beauty in every moment.  Get ready to illuminate your life from within and radiate positivity to the world around you. \nWelcome to the Radiant Living Series – where your brightest self awaits! \nWhen communities come together\, we get stronger! \nEpisode 1 – Functional Breathwork\nThe essence of health is a balanced breath-learn nervous system regulation via functional breathing. \nDuring this class you will learn: \n\nPart One – Nervous system regulation via functional breathing.\nPart Two – To actually practice breathing.\n\n  \nSign Up Here!
URL:https://veritymedicine.com/event/radiant-living-series/
CATEGORIES:In House Class
ATTACH;FMTTYPE=image/jpeg:https://veritymedicine.com/wp-content/uploads/2024/04/Blueridge-RLS.jpg
END:VEVENT
END:VCALENDAR