BEGIN:VCALENDAR
VERSION:2.0
PRODID:-//Verity Medicine - ECPv6.15.20//NONSGML v1.0//EN
CALSCALE:GREGORIAN
METHOD:PUBLISH
X-ORIGINAL-URL:https://veritymedicine.com
X-WR-CALDESC:Events for Verity Medicine
REFRESH-INTERVAL;VALUE=DURATION:PT1H
X-Robots-Tag:noindex
X-PUBLISHED-TTL:PT1H
BEGIN:VTIMEZONE
TZID:America/New_York
BEGIN:DAYLIGHT
TZOFFSETFROM:-0500
TZOFFSETTO:-0400
TZNAME:EDT
DTSTART:20240310T070000
END:DAYLIGHT
BEGIN:STANDARD
TZOFFSETFROM:-0400
TZOFFSETTO:-0500
TZNAME:EST
DTSTART:20241103T060000
END:STANDARD
BEGIN:DAYLIGHT
TZOFFSETFROM:-0500
TZOFFSETTO:-0400
TZNAME:EDT
DTSTART:20250309T070000
END:DAYLIGHT
BEGIN:STANDARD
TZOFFSETFROM:-0400
TZOFFSETTO:-0500
TZNAME:EST
DTSTART:20251102T060000
END:STANDARD
BEGIN:DAYLIGHT
TZOFFSETFROM:-0500
TZOFFSETTO:-0400
TZNAME:EDT
DTSTART:20260308T070000
END:DAYLIGHT
BEGIN:STANDARD
TZOFFSETFROM:-0400
TZOFFSETTO:-0500
TZNAME:EST
DTSTART:20261101T060000
END:STANDARD
BEGIN:DAYLIGHT
TZOFFSETFROM:-0500
TZOFFSETTO:-0400
TZNAME:EDT
DTSTART:20270314T070000
END:DAYLIGHT
BEGIN:STANDARD
TZOFFSETFROM:-0400
TZOFFSETTO:-0500
TZNAME:EST
DTSTART:20271107T060000
END:STANDARD
END:VTIMEZONE
BEGIN:VEVENT
DTSTART;TZID=America/New_York:20251206T110000
DTEND;TZID=America/New_York:20251206T130000
DTSTAMP:20260425T112807
CREATED:20250521T173136Z
LAST-MODIFIED:20251204T155927Z
UID:2321-1765018800-1765026000@veritymedicine.com
SUMMARY:Plant Based Brunch Potluck!
DESCRIPTION:Join us for this plant-based community event to share good food and warm conversation! Verity will provide plates and utensils. We will have water\, but feel free to bring your own drink if you like. If you are not sure what to bring\, but are curious\, please still join us… a simple salad or a fruit tray will suffice!\nNo charge – just show up!\nRecipes are appreciated\n \n\nOpen to all.  Bring a plant based dish to share!\n  \n  \n\n \n\n  \n 
URL:https://veritymedicine.com/event/plant-based-potluck-2/
LOCATION:Verity Primary Medicine & Lifestyle\, 118 S Pendleton Street\, Easley\, SC\, 29640\, United States
ATTACH;FMTTYPE=image/jpeg:https://veritymedicine.com/wp-content/uploads/2022/05/potluck.jpg
END:VEVENT
BEGIN:VEVENT
DTSTART;TZID=America/New_York:20260402T180000
DTEND;TZID=America/New_York:20260402T190000
DTSTAMP:20260425T112807
CREATED:20260317T125638Z
LAST-MODIFIED:20260317T125638Z
UID:2366-1775152800-1775156400@veritymedicine.com
SUMMARY:Kids' Cooking Class
DESCRIPTION:Kids’ Cooking Class Eat the Rainbow!\nTaught by Dr. Lori Carnsew and Abby Flanigan \nApril 2nd from 6-7pm in Verity’s kitchen \n$15 per child  \nTopics of Discussion \n\nGrades K-3rd\nOne parent/guardian per child\nClass Limit: 14\n\n  \n  \n  \n\n \n\n  \n  \nSign Up Here!
URL:https://veritymedicine.com/event/kids-cooking-class/
LOCATION:Verity Primary Medicine & Lifestyle\, 118 S Pendleton Street\, Easley\, SC\, 29640\, United States
ATTACH;FMTTYPE=image/jpeg:https://veritymedicine.com/wp-content/uploads/2026/03/Kids-Cooking-Class.jpg
ORGANIZER;CN="Verity Primary Medicine & Lifestyle":MAILTO:Contact@veritymedicine.com
END:VEVENT
END:VCALENDAR